BEGIN:VCALENDAR
VERSION:2.0
PRODID:-//Inform Magazine - ECPv6.15.20//NONSGML v1.0//EN
CALSCALE:GREGORIAN
METHOD:PUBLISH
X-ORIGINAL-URL:https://inform-magazine.com
X-WR-CALDESC:Events for Inform Magazine
REFRESH-INTERVAL;VALUE=DURATION:PT1H
X-Robots-Tag:noindex
X-PUBLISHED-TTL:PT1H
BEGIN:VTIMEZONE
TZID:America/New_York
BEGIN:DAYLIGHT
TZOFFSETFROM:-0500
TZOFFSETTO:-0400
TZNAME:EDT
DTSTART:20220313T070000
END:DAYLIGHT
BEGIN:STANDARD
TZOFFSETFROM:-0400
TZOFFSETTO:-0500
TZNAME:EST
DTSTART:20221106T060000
END:STANDARD
BEGIN:DAYLIGHT
TZOFFSETFROM:-0500
TZOFFSETTO:-0400
TZNAME:EDT
DTSTART:20230312T070000
END:DAYLIGHT
BEGIN:STANDARD
TZOFFSETFROM:-0400
TZOFFSETTO:-0500
TZNAME:EST
DTSTART:20231105T060000
END:STANDARD
BEGIN:DAYLIGHT
TZOFFSETFROM:-0500
TZOFFSETTO:-0400
TZNAME:EDT
DTSTART:20240310T070000
END:DAYLIGHT
BEGIN:STANDARD
TZOFFSETFROM:-0400
TZOFFSETTO:-0500
TZNAME:EST
DTSTART:20241103T060000
END:STANDARD
END:VTIMEZONE
BEGIN:VEVENT
DTSTART;TZID=America/New_York:20230209T120000
DTEND;TZID=America/New_York:20230209T130000
DTSTAMP:20260419T113939
CREATED:20230126T010300Z
LAST-MODIFIED:20230126T010300Z
UID:10000424-1675944000-1675947600@inform-magazine.com
SUMMARY:Lunch & Learn: Stone Designs
DESCRIPTION:Join AIA Richmond’s February Lunch and Learn in the conference room at AIA Virginia’s offices in the Bookbindery Building. Discuss the formation of natural stone and compare it with the natural process technology of manufacturing Calcium Silicate Stone Units. \nArchitectural detailing for stone masonry veneers promoting moisture management principles and considerations for control of movement in masonry walls is covered. A variety of design styles incorporating stone masonry materials are highlighted. \nEarn 1.0 AIA LU|HSW \nThis program is hosted by Shade & Wise. \nRegister online.
URL:https://inform-magazine.com/event/lunch-learn-stone-designs/
LOCATION:AIA Virginia\, 2201 W. Broad St.\, Ste. 207\, Richmond\, VA\, 23220\, United States
CATEGORIES:Education,Webinars
ORGANIZER;CN="AIA Richmond":MAILTO:info@aiarva.org
END:VEVENT
END:VCALENDAR