BEGIN:VCALENDAR
VERSION:2.0
PRODID:-//Inform Magazine - ECPv6.15.20//NONSGML v1.0//EN
CALSCALE:GREGORIAN
METHOD:PUBLISH
X-ORIGINAL-URL:https://inform-magazine.com
X-WR-CALDESC:Events for Inform Magazine
REFRESH-INTERVAL;VALUE=DURATION:PT1H
X-Robots-Tag:noindex
X-PUBLISHED-TTL:PT1H
BEGIN:VTIMEZONE
TZID:America/New_York
BEGIN:DAYLIGHT
TZOFFSETFROM:-0500
TZOFFSETTO:-0400
TZNAME:EDT
DTSTART:20220313T070000
END:DAYLIGHT
BEGIN:STANDARD
TZOFFSETFROM:-0400
TZOFFSETTO:-0500
TZNAME:EST
DTSTART:20221106T060000
END:STANDARD
BEGIN:DAYLIGHT
TZOFFSETFROM:-0500
TZOFFSETTO:-0400
TZNAME:EDT
DTSTART:20230312T070000
END:DAYLIGHT
BEGIN:STANDARD
TZOFFSETFROM:-0400
TZOFFSETTO:-0500
TZNAME:EST
DTSTART:20231105T060000
END:STANDARD
BEGIN:DAYLIGHT
TZOFFSETFROM:-0500
TZOFFSETTO:-0400
TZNAME:EDT
DTSTART:20240310T070000
END:DAYLIGHT
BEGIN:STANDARD
TZOFFSETFROM:-0400
TZOFFSETTO:-0500
TZNAME:EST
DTSTART:20241103T060000
END:STANDARD
END:VTIMEZONE
BEGIN:VEVENT
DTSTART;TZID=America/New_York:20230214T080000
DTEND;TZID=America/New_York:20230217T170000
DTSTAMP:20260419T100405
CREATED:20230126T010524Z
LAST-MODIFIED:20230126T010524Z
UID:10000425-1676361600-1676653200@inform-magazine.com
SUMMARY:AIA Leadership Summit (formerly Grassroots)
DESCRIPTION:After two years of virtual gatherings\, AIA’s premier chapter leadership training event returns to Washington\, DC\, February 14–17 with a new name and an exceptional program. Join us at AIA Leadership Summit 2023 (formerly Grassroots) for four days of vital leadership training designed to help you be an effective leader in your chapter\, firm\, and community. \nAIA Leadership Summit brings together AIA volunteer leaders\, chapter executives\, and chapter staff across regions\, specialties\, firm sizes\, and career stages. This year’s theme—Architecture’s Generations at Work—focuses on building bridges to create a better world and a stronger profession\, skills you can apply to every facet of your professional life. \nRegister online.
URL:https://inform-magazine.com/event/aia-leadership-summit-formerly-grassroots/
CATEGORIES:Education
END:VEVENT
BEGIN:VEVENT
DTSTART;TZID=America/New_York:20230215T120000
DTEND;TZID=America/New_York:20230215T130000
DTSTAMP:20260419T100405
CREATED:20230103T210500Z
LAST-MODIFIED:20230103T210500Z
UID:10000416-1676462400-1676466000@inform-magazine.com
SUMMARY:Cultivating Your Path to Fellowship (Session 4)
DESCRIPTION:Cultivating Your Path to Fellowship\nReverse Engineering the FAIA Submission Process to Develop Meaning & Purpose in Practice \nFour\, 1-hour sessions starting Wednesday\, January 25th. \n4 AIA LU | Elective \nRegister>> \nToo often AIA members approach achieving Fellowship at the end of a significant phase of their career. The result is the demographic composition of the College of Fellows remains predominantly older\, white males. These sessions seek to elevate diversity in the College’s ranks by teaching young and mid-career architects to reverse engineer their path to Fellowship using the AIA’s Sample Application\, a specialized outline\, storytelling techniques\, and writing basics to define and amplify their voices and accomplishments. This method advances meaning and intention in attendees’ career paths and\, ultimately\, will bring younger and more diverse professionals to advancing the mission and leadership of the College of Fellows and its grant funding activities. \nMapping a career around AIA Fellowship provides a path to positively impact others and elevate the value\, potential and reach of the many career paths architects take. Attendees will gain inspiration on finding time for introspection\, planning and preparation to explore\, define and elevate meaning in practice. \nLearning Objectives \n\nGain detailed understanding of AIA Fellowship & the process of submission.\nLearn about the value of AIA Fellowship for the advancement of individuals and their work.\nAcquire skills to develop storylines and narratives to capture career milestones and projects.\nTake-away resources on story structure and guidelines for better professional writing
URL:https://inform-magazine.com/event/cultivating-your-path-to-fellowship-session-4/
CATEGORIES:Education
ORGANIZER;CN="AIA Virginia":MAILTO:info@aiava.org
END:VEVENT
END:VCALENDAR