BEGIN:VCALENDAR
VERSION:2.0
PRODID:-//Inform Magazine - ECPv6.15.20//NONSGML v1.0//EN
CALSCALE:GREGORIAN
METHOD:PUBLISH
X-WR-CALNAME:Inform Magazine
X-ORIGINAL-URL:https://inform-magazine.com
X-WR-CALDESC:Events for Inform Magazine
REFRESH-INTERVAL;VALUE=DURATION:PT1H
X-Robots-Tag:noindex
X-PUBLISHED-TTL:PT1H
BEGIN:VTIMEZONE
TZID:America/New_York
BEGIN:DAYLIGHT
TZOFFSETFROM:-0500
TZOFFSETTO:-0400
TZNAME:EDT
DTSTART:20210314T070000
END:DAYLIGHT
BEGIN:STANDARD
TZOFFSETFROM:-0400
TZOFFSETTO:-0500
TZNAME:EST
DTSTART:20211107T060000
END:STANDARD
BEGIN:DAYLIGHT
TZOFFSETFROM:-0500
TZOFFSETTO:-0400
TZNAME:EDT
DTSTART:20220313T070000
END:DAYLIGHT
BEGIN:STANDARD
TZOFFSETFROM:-0400
TZOFFSETTO:-0500
TZNAME:EST
DTSTART:20221106T060000
END:STANDARD
BEGIN:DAYLIGHT
TZOFFSETFROM:-0500
TZOFFSETTO:-0400
TZNAME:EDT
DTSTART:20230312T070000
END:DAYLIGHT
BEGIN:STANDARD
TZOFFSETFROM:-0400
TZOFFSETTO:-0500
TZNAME:EST
DTSTART:20231105T060000
END:STANDARD
END:VTIMEZONE
BEGIN:VEVENT
DTSTART;TZID=America/New_York:20221017T100000
DTEND;TZID=America/New_York:20221017T183000
DTSTAMP:20260421T104807
CREATED:20220208T211358Z
LAST-MODIFIED:20220208T211358Z
UID:10000205-1666000800-1666031400@inform-magazine.com
SUMMARY:AIA Richmond Annual Golf Social
DESCRIPTION:Join AIA Richmond for the 19th Annual AIA Richmond Golf Social at the Willow Oaks Country Club. \nThis event sells out every year. Sign up early to reserve your team or sponsorship.  \nRegister online.
URL:https://inform-magazine.com/event/aia-richmond-annual-golf-social/
LOCATION:Willow Oaks Country Club\, 6228 Forest Hill Ave\, Richmond\, 23225\, United States
CATEGORIES:Social
ORGANIZER;CN="AIA Richmond":MAILTO:info@aiarva.org
END:VEVENT
BEGIN:VEVENT
DTSTART;TZID=America/New_York:20221019T120000
DTEND;TZID=America/New_York:20221019T130000
DTSTAMP:20260421T104807
CREATED:20220218T184157Z
LAST-MODIFIED:20220218T190342Z
UID:10000318-1666180800-1666184400@inform-magazine.com
SUMMARY:High Performing Resilient Wood Framed Roofs
DESCRIPTION:This course provides an overview and discussion of resilient construction methods related to roof construction. We start by defining resiliency as a design objective\, then investigate the financial ramifications of natural disasters on structures not designed with resiliency in mind. We describe numerous programs that promote resilient construction in the US\, including a program designed to provide insurance discounts to homeowners that build to resilient standards. Finally\, the program describes the construction techniques that qualify as resilient practices and provides a financial comparison of the costs of these practices. \nAs a result of participating in this presentation\, attendees will be equipped to: \n\nIdentify and recognize the natural environmental forces that affect the design considerations of wood-framed roof systems.\nAssess the advantages and disadvantages of resilient vs. non-resilient design.\nCompare and contrast the performance characteristics of the components of a wood-framed roof system.\nProvide best practice solutions for resilient design of wood-framed roofs.\n\nEarn 1.0 AIA LU | HSW \nRegister online. \nPresented in collaboration with Huber Engineered Woods.
URL:https://inform-magazine.com/event/high-performing-resilient-wood-framed-roofs/
LOCATION:Virtual – Online
CATEGORIES:Education,Webinars
ORGANIZER;CN="AIA Virginia":MAILTO:info@aiava.org
END:VEVENT
BEGIN:VEVENT
DTSTART;TZID=America/New_York:20221019T183000
DTEND;TZID=America/New_York:20221019T203000
DTSTAMP:20260421T104807
CREATED:20221011T201229Z
LAST-MODIFIED:20221011T201229Z
UID:10000390-1666204200-1666211400@inform-magazine.com
SUMMARY:Autumn Social
DESCRIPTION:We cordially invite all members to attend the Autumn Social on Oct. 19 at Wilson Hardware Kitchen & Bar in Arlington to view the work of the Chapter as we present the results of the 2023 Chapter elections\, introduce the 2023 Executive Committee and Board Directors\, plus announce and fete the 2022 recipients of the Chapter’s Honors & Awards. Learn more. ((Learn more link is: https://aianova.org/event.php?eventID=2496 )) \nJoin us for the opportunity to network with your colleagues\, in addition to meeting Chapter Committee Chairs recruiting volunteers for 2023. Have you always wondered what a particular committee did? Now is the time to get that answer and to commit to sharing some of your time in service. The Chapter needs you now – so join in\, pick your spot and get involved so that we can make AIA NoVA even more of what you currently enjoy. \nPurchase your tickets now! ((https://fs24.formsite.com/mattaianovaorg/fpqjks0sjp/index.html)) is the link. \nAvailable at a variety of price points\, we encourage all members to attend\, no matter which career level you have attained. Depending upon the pricing for which you qualify\, we have options for established architects\, International Associates and Allied Professionals ($40)\, Associate Members ($30)\, students ($20) and non-members ($50) who wish to network with members present at the event as well. \nEach ticket comes with two (2) premium drink vouchers and heavy hors d’oeuvres. \n  \nAdditional Information: \nAutumn Social (( https://aianova.org/event.php?eventID=2496 )) is the link \nWilson Hardware Kitchen & Bar (( https://www.wilsonhardwareva.com/ )) is the link \nLearn more. ((Learn more link is: https://aianova.org/event.php?eventID=2496 )) \nPurchase your tickets now! ((https://fs24.formsite.com/mattaianovaorg/fpqjks0sjp/index.html )) is the link.
URL:https://inform-magazine.com/event/autumn-social/
END:VEVENT
BEGIN:VEVENT
DTSTART;TZID=America/New_York:20221027T180000
DTEND;TZID=America/New_York:20221027T210000
DTSTAMP:20260421T104807
CREATED:20221011T201344Z
LAST-MODIFIED:20221011T201344Z
UID:10000391-1666893600-1666904400@inform-magazine.com
SUMMARY:WIA Joint Happy Hour with IES
DESCRIPTION:Join Women in Architecture (WIA) and Illuminating Engineering Society (IES) for a joint Happy Hour at Punch Bowl Social for some bowling and happy hour specials. \nBowling will be sponsored so RSVP is needed by Oct. 17. \nHope to see you there! \n  \nPunch Bowl Social link: (( https://punchbowlsocial.com/location/arlington )) \nRSVP registration link: (( https://www.eventbrite.com/e/ies-dc-ep-bowling-social-tickets-439342403957 ))
URL:https://inform-magazine.com/event/wia-joint-happy-hour-with-ies/
END:VEVENT
BEGIN:VEVENT
DTSTART;VALUE=DATE:20221102
DTEND;VALUE=DATE:20221105
DTSTAMP:20260421T104807
CREATED:20220831T140227Z
LAST-MODIFIED:20220831T140227Z
UID:10000377-1667347200-1667606399@inform-magazine.com
SUMMARY:Architecture Exchange East
DESCRIPTION:Resilience is the sustained ability of communities to withstand\, adapt to\, and recover from adversity. As we continue to emerge from a global pandemic and societal strife\, we ask ourselves: how can we (re) build our communities? \nBeyond new ways of working\, what are the new paradigms for ourselves\, our practices\, our processes\, our communities\, and our clients? How are the design processes and resultant outcomes encompassing social justice and resiliency? \nJoin your colleagues Nov. 2-4\, 2022 in Richmond (or online) at Architecture Exchange East (ArchEx) as we begin our return to normalcy\, collaborate\, and explore how the profession can expand the dialogue and contribute to a growing common understanding. Through the lens of (re)Building Community\, we’ll explore how to: \n\nMake the profession an ever-increasing service\nDevelop design responses and ideas to support our communities\nContribute to healthier communities and the overall well-being of their inhabitants\n\nRegistration is expected to open in early September.
URL:https://inform-magazine.com/event/architecture-exchange-east-2/
LOCATION:Greater Richmond Convention Center\, 403 North Third Street\, Richmond\, VA\, 23219\, United States
CATEGORIES:Education,Live
ORGANIZER;CN="AIA Virginia":MAILTO:info@aiava.org
END:VEVENT
BEGIN:VEVENT
DTSTART;VALUE=DATE:20221104
DTEND;VALUE=DATE:20221107
DTSTAMP:20260421T104807
CREATED:20220831T135016Z
LAST-MODIFIED:20220831T135016Z
UID:10000376-1667520000-1667779199@inform-magazine.com
SUMMARY:William Buckland Architectural Tour
DESCRIPTION:Presented by Menokin \nLearn about the life and design works of 18th century Master Architect William Buckland with exclusive visits to Menokin\, Gunston Hall and Hammond Harwood House. \nWilliam Buckland was a British architect that worked primarily in Virginia and Maryland in the colonial era\, and is credited with greatly contributing to world renown Virginia historical sites such as Gunston Hall and Menokin\, as well as the Chase-Lloyd House and Hammond Harwood House in Annapolis\, Md. \nLearn more or register. \nRegistration deadline: Oct. 6\, 2022 \n 
URL:https://inform-magazine.com/event/william-buckland-architectural-tour/
CATEGORIES:Travel
END:VEVENT
BEGIN:VEVENT
DTSTART;TZID=America/New_York:20221104T183000
DTEND;TZID=America/New_York:20221104T213000
DTSTAMP:20260421T104807
CREATED:20220831T141349Z
LAST-MODIFIED:20220831T141349Z
UID:10000381-1667586600-1667597400@inform-magazine.com
SUMMARY:Visions for Architecture
DESCRIPTION:Visions for Architecture\, created in 1998\, is AIA Virginia’s annual Honors and Awards gala. \nVisions celebrates the achievements of those whose work makes especially strong contributions to society and celebrates the recipients of AIA Virginia’s Honors Awards and the Awards for Excellence in Architecture. \nTickets go on sale soon.
URL:https://inform-magazine.com/event/visions-for-architecture-3/
LOCATION:Virginia Museum of Fine Arts
CATEGORIES:Awards & Competitions,Social
ORGANIZER;CN="AIA Virginia":MAILTO:info@aiava.org
END:VEVENT
END:VCALENDAR