BEGIN:VCALENDAR
VERSION:2.0
PRODID:-//Inform Magazine - ECPv6.15.20//NONSGML v1.0//EN
CALSCALE:GREGORIAN
METHOD:PUBLISH
X-WR-CALNAME:Inform Magazine
X-ORIGINAL-URL:https://inform-magazine.com
X-WR-CALDESC:Events for Inform Magazine
REFRESH-INTERVAL;VALUE=DURATION:PT1H
X-Robots-Tag:noindex
X-PUBLISHED-TTL:PT1H
BEGIN:VTIMEZONE
TZID:America/New_York
BEGIN:DAYLIGHT
TZOFFSETFROM:-0500
TZOFFSETTO:-0400
TZNAME:EDT
DTSTART:20210314T070000
END:DAYLIGHT
BEGIN:STANDARD
TZOFFSETFROM:-0400
TZOFFSETTO:-0500
TZNAME:EST
DTSTART:20211107T060000
END:STANDARD
BEGIN:DAYLIGHT
TZOFFSETFROM:-0500
TZOFFSETTO:-0400
TZNAME:EDT
DTSTART:20220313T070000
END:DAYLIGHT
BEGIN:STANDARD
TZOFFSETFROM:-0400
TZOFFSETTO:-0500
TZNAME:EST
DTSTART:20221106T060000
END:STANDARD
BEGIN:DAYLIGHT
TZOFFSETFROM:-0500
TZOFFSETTO:-0400
TZNAME:EDT
DTSTART:20230312T070000
END:DAYLIGHT
BEGIN:STANDARD
TZOFFSETFROM:-0400
TZOFFSETTO:-0500
TZNAME:EST
DTSTART:20231105T060000
END:STANDARD
END:VTIMEZONE
BEGIN:VEVENT
DTSTART;TZID=America/New_York:20221201T120000
DTEND;TZID=America/New_York:20221201T130000
DTSTAMP:20260419T120413
CREATED:20221027T165431Z
LAST-MODIFIED:20221027T165431Z
UID:10000392-1669896000-1669899600@inform-magazine.com
SUMMARY:Large Doors: How to Select the Right Door
DESCRIPTION:Offered and presented by T.W. Perry \n1 AIA LU|HSW.\nFree. Virtual. \nREGISTER >>> \nModern design trends are favoring larger openings\, and while this blank canvas offers the architect a wide-range of options\, it can also pose a challenge. Because of almost unlimited variations of different types\, styles\, and available options for large doors\, it is often more important that the architect understands how to make the selection process\, rather than which specific door to choose. The process for specifying should include client aesthetic expectations\, environmental conditions\, building performance\, and durability concerns. \nLearning Objectives:\nUnderstand the unique design elements of an indoor/outdoor living space and modern trends in large doors.\nDescribe what to consider when balancing client needs with environmental conditions\, building performance\, and durability concerns.\nList the different door types and styles available for transition points between indoor and outdoor areas.\nDiscuss the best process for specifying large doors in commercial and residential projects. \nContact:\nKen Clark\, T.W. Perry\nkclark@twperry.com
URL:https://inform-magazine.com/event/large-doors-how-to-select-the-right-door-2/
ORGANIZER;CN="AIA Northern Virginia":MAILTO:aianova@aianova.org
END:VEVENT
BEGIN:VEVENT
DTSTART;TZID=America/New_York:20221205T120000
DTEND;TZID=America/New_York:20221205T130000
DTSTAMP:20260419T120413
CREATED:20221108T202837Z
LAST-MODIFIED:20221114T213955Z
UID:10000393-1670241600-1670245200@inform-magazine.com
SUMMARY:Procrastinator Series
DESCRIPTION:Join AIAVA for our Procrastinator series – a series of Lunch and Learn sessions for those of us who couldn’t get around to it before now. These sessions are for you if you happen to be running behind on your learning units for the year or waiting till the last minute. \nBecause we get it. \n  \nWe hope you’ll join us below: \nProcrastinator Series
URL:https://inform-magazine.com/event/procrastinator-series/2022-12-05/
ATTACH;FMTTYPE=image/png:https://inform-magazine.com/wp-content/uploads/2022/11/Procrastinator-Series.png
END:VEVENT
BEGIN:VEVENT
DTSTART;TZID=America/New_York:20221205T180000
DTEND;TZID=America/New_York:20221205T193000
DTSTAMP:20260419T120413
CREATED:20221114T182211Z
LAST-MODIFIED:20221114T182211Z
UID:10000406-1670263200-1670268600@inform-magazine.com
SUMMARY:AIA NOVA Women in Architecture Holiday Party
DESCRIPTION:Join AIA Northern Virginia for the Women in Architecture committee (WIA) virtual holiday celebration. To end a wonderful year\, we will be celebrating the committee history and listening to stories and lessons learned of past co-chairs. We will also have games and trivia! \nRSVP via email to Co-Chair\, Susy Mikhail\, AIA or Co-Chair Anna Barbour\, AIA.
URL:https://inform-magazine.com/event/aia-nova-women-in-architecture-holiday-party/
CATEGORIES:Social
ORGANIZER;CN="AIA Northern Virginia":MAILTO:aianova@aianova.org
END:VEVENT
BEGIN:VEVENT
DTSTART;TZID=America/New_York:20221206T120000
DTEND;TZID=America/New_York:20221206T130000
DTSTAMP:20260419T120413
CREATED:20221108T202837Z
LAST-MODIFIED:20221114T213955Z
UID:10000394-1670328000-1670331600@inform-magazine.com
SUMMARY:Procrastinator Series
DESCRIPTION:Join AIAVA for our Procrastinator series – a series of Lunch and Learn sessions for those of us who couldn’t get around to it before now. These sessions are for you if you happen to be running behind on your learning units for the year or waiting till the last minute. \nBecause we get it. \n  \nWe hope you’ll join us below: \nProcrastinator Series
URL:https://inform-magazine.com/event/procrastinator-series/2022-12-06/
ATTACH;FMTTYPE=image/png:https://inform-magazine.com/wp-content/uploads/2022/11/Procrastinator-Series.png
END:VEVENT
BEGIN:VEVENT
DTSTART;TZID=America/New_York:20221206T173000
DTEND;TZID=America/New_York:20221206T190000
DTSTAMP:20260419T120413
CREATED:20221114T182339Z
LAST-MODIFIED:20221114T182339Z
UID:10000407-1670347800-1670353200@inform-magazine.com
SUMMARY:AIA Richmond Women in Design Holiday Party
DESCRIPTION:Join Richmond Women in Design for their annual holiday party at Ardent Barrel Room. \n 
URL:https://inform-magazine.com/event/aia-richmond-women-in-design-holiday-party/
CATEGORIES:Social
ORGANIZER;CN="AIA Richmond":MAILTO:info@aiarva.org
END:VEVENT
BEGIN:VEVENT
DTSTART;TZID=America/New_York:20221207T120000
DTEND;TZID=America/New_York:20221207T130000
DTSTAMP:20260419T120413
CREATED:20221108T202837Z
LAST-MODIFIED:20221114T213955Z
UID:10000395-1670414400-1670418000@inform-magazine.com
SUMMARY:Procrastinator Series
DESCRIPTION:Join AIAVA for our Procrastinator series – a series of Lunch and Learn sessions for those of us who couldn’t get around to it before now. These sessions are for you if you happen to be running behind on your learning units for the year or waiting till the last minute. \nBecause we get it. \n  \nWe hope you’ll join us below: \nProcrastinator Series
URL:https://inform-magazine.com/event/procrastinator-series/2022-12-07/
ATTACH;FMTTYPE=image/png:https://inform-magazine.com/wp-content/uploads/2022/11/Procrastinator-Series.png
END:VEVENT
BEGIN:VEVENT
DTSTART;TZID=America/New_York:20221208T120000
DTEND;TZID=America/New_York:20221208T130000
DTSTAMP:20260419T120413
CREATED:20221108T202837Z
LAST-MODIFIED:20221114T213955Z
UID:10000396-1670500800-1670504400@inform-magazine.com
SUMMARY:Procrastinator Series
DESCRIPTION:Join AIAVA for our Procrastinator series – a series of Lunch and Learn sessions for those of us who couldn’t get around to it before now. These sessions are for you if you happen to be running behind on your learning units for the year or waiting till the last minute. \nBecause we get it. \n  \nWe hope you’ll join us below: \nProcrastinator Series
URL:https://inform-magazine.com/event/procrastinator-series/2022-12-08/
ATTACH;FMTTYPE=image/png:https://inform-magazine.com/wp-content/uploads/2022/11/Procrastinator-Series.png
END:VEVENT
BEGIN:VEVENT
DTSTART;TZID=America/New_York:20221208T120000
DTEND;TZID=America/New_York:20221208T130000
DTSTAMP:20260419T120413
CREATED:20221118T190458Z
LAST-MODIFIED:20221118T190458Z
UID:10000409-1670500800-1670504400@inform-magazine.com
SUMMARY:Which Buildings Require Asbestos Testing?
DESCRIPTION:Join AIA Hampton Roads on Dec. 8 at 12 for a session on which buildings need asbestos testing prior to renovation or demolition. \nLearn more or register.
URL:https://inform-magazine.com/event/which-buildings-require-asbestos-testing/
LOCATION:Virtual – Online
CATEGORIES:Education,Webinars
END:VEVENT
BEGIN:VEVENT
DTSTART;TZID=America/New_York:20221209T120000
DTEND;TZID=America/New_York:20221209T130000
DTSTAMP:20260419T120413
CREATED:20221108T202837Z
LAST-MODIFIED:20221114T213955Z
UID:10000397-1670587200-1670590800@inform-magazine.com
SUMMARY:Procrastinator Series
DESCRIPTION:Join AIAVA for our Procrastinator series – a series of Lunch and Learn sessions for those of us who couldn’t get around to it before now. These sessions are for you if you happen to be running behind on your learning units for the year or waiting till the last minute. \nBecause we get it. \n  \nWe hope you’ll join us below: \nProcrastinator Series
URL:https://inform-magazine.com/event/procrastinator-series/2022-12-09/
ATTACH;FMTTYPE=image/png:https://inform-magazine.com/wp-content/uploads/2022/11/Procrastinator-Series.png
END:VEVENT
BEGIN:VEVENT
DTSTART;TZID=America/New_York:20221210T120000
DTEND;TZID=America/New_York:20221210T130000
DTSTAMP:20260419T120413
CREATED:20221108T202837Z
LAST-MODIFIED:20221114T213955Z
UID:10000398-1670673600-1670677200@inform-magazine.com
SUMMARY:Procrastinator Series
DESCRIPTION:Join AIAVA for our Procrastinator series – a series of Lunch and Learn sessions for those of us who couldn’t get around to it before now. These sessions are for you if you happen to be running behind on your learning units for the year or waiting till the last minute. \nBecause we get it. \n  \nWe hope you’ll join us below: \nProcrastinator Series
URL:https://inform-magazine.com/event/procrastinator-series/2022-12-10/
ATTACH;FMTTYPE=image/png:https://inform-magazine.com/wp-content/uploads/2022/11/Procrastinator-Series.png
END:VEVENT
BEGIN:VEVENT
DTSTART;TZID=America/New_York:20221211T120000
DTEND;TZID=America/New_York:20221211T130000
DTSTAMP:20260419T120413
CREATED:20221108T202837Z
LAST-MODIFIED:20221114T213955Z
UID:10000399-1670760000-1670763600@inform-magazine.com
SUMMARY:Procrastinator Series
DESCRIPTION:Join AIAVA for our Procrastinator series – a series of Lunch and Learn sessions for those of us who couldn’t get around to it before now. These sessions are for you if you happen to be running behind on your learning units for the year or waiting till the last minute. \nBecause we get it. \n  \nWe hope you’ll join us below: \nProcrastinator Series
URL:https://inform-magazine.com/event/procrastinator-series/2022-12-11/
ATTACH;FMTTYPE=image/png:https://inform-magazine.com/wp-content/uploads/2022/11/Procrastinator-Series.png
END:VEVENT
BEGIN:VEVENT
DTSTART;TZID=America/New_York:20221212T120000
DTEND;TZID=America/New_York:20221212T130000
DTSTAMP:20260419T120413
CREATED:20221108T202837Z
LAST-MODIFIED:20221114T213955Z
UID:10000400-1670846400-1670850000@inform-magazine.com
SUMMARY:Procrastinator Series
DESCRIPTION:Join AIAVA for our Procrastinator series – a series of Lunch and Learn sessions for those of us who couldn’t get around to it before now. These sessions are for you if you happen to be running behind on your learning units for the year or waiting till the last minute. \nBecause we get it. \n  \nWe hope you’ll join us below: \nProcrastinator Series
URL:https://inform-magazine.com/event/procrastinator-series/2022-12-12/
ATTACH;FMTTYPE=image/png:https://inform-magazine.com/wp-content/uploads/2022/11/Procrastinator-Series.png
END:VEVENT
BEGIN:VEVENT
DTSTART;TZID=America/New_York:20221213T120000
DTEND;TZID=America/New_York:20221213T130000
DTSTAMP:20260419T120413
CREATED:20221108T202837Z
LAST-MODIFIED:20221114T213955Z
UID:10000401-1670932800-1670936400@inform-magazine.com
SUMMARY:Procrastinator Series
DESCRIPTION:Join AIAVA for our Procrastinator series – a series of Lunch and Learn sessions for those of us who couldn’t get around to it before now. These sessions are for you if you happen to be running behind on your learning units for the year or waiting till the last minute. \nBecause we get it. \n  \nWe hope you’ll join us below: \nProcrastinator Series
URL:https://inform-magazine.com/event/procrastinator-series/2022-12-13/
ATTACH;FMTTYPE=image/png:https://inform-magazine.com/wp-content/uploads/2022/11/Procrastinator-Series.png
END:VEVENT
BEGIN:VEVENT
DTSTART;TZID=America/New_York:20221214T120000
DTEND;TZID=America/New_York:20221214T130000
DTSTAMP:20260419T120413
CREATED:20221108T202837Z
LAST-MODIFIED:20221114T213955Z
UID:10000402-1671019200-1671022800@inform-magazine.com
SUMMARY:Procrastinator Series
DESCRIPTION:Join AIAVA for our Procrastinator series – a series of Lunch and Learn sessions for those of us who couldn’t get around to it before now. These sessions are for you if you happen to be running behind on your learning units for the year or waiting till the last minute. \nBecause we get it. \n  \nWe hope you’ll join us below: \nProcrastinator Series
URL:https://inform-magazine.com/event/procrastinator-series/2022-12-14/
ATTACH;FMTTYPE=image/png:https://inform-magazine.com/wp-content/uploads/2022/11/Procrastinator-Series.png
END:VEVENT
BEGIN:VEVENT
DTSTART;TZID=America/New_York:20221214T180000
DTEND;TZID=America/New_York:20221214T210000
DTSTAMP:20260419T120413
CREATED:20221114T182600Z
LAST-MODIFIED:20221114T191646Z
UID:10000408-1671040800-1671051600@inform-magazine.com
SUMMARY:AIA Richmond 2022 Annual Meeting & Holiday Party
DESCRIPTION:Join AIA Richmond for the 2022 Annual Meeting of the Membership and Holiday Party! \nLearn more or register online.
URL:https://inform-magazine.com/event/aia-richmond-2022-annual-meeting-holiday-party/
LOCATION:Hardywood Richmond\, 2410 Ownby Ln.\, Richmond\, VA\, 23220
CATEGORIES:Education,Social
END:VEVENT
BEGIN:VEVENT
DTSTART;TZID=America/New_York:20221215T120000
DTEND;TZID=America/New_York:20221215T130000
DTSTAMP:20260419T120413
CREATED:20221108T202837Z
LAST-MODIFIED:20221114T213955Z
UID:10000403-1671105600-1671109200@inform-magazine.com
SUMMARY:Procrastinator Series
DESCRIPTION:Join AIAVA for our Procrastinator series – a series of Lunch and Learn sessions for those of us who couldn’t get around to it before now. These sessions are for you if you happen to be running behind on your learning units for the year or waiting till the last minute. \nBecause we get it. \n  \nWe hope you’ll join us below: \nProcrastinator Series
URL:https://inform-magazine.com/event/procrastinator-series/2022-12-15/
ATTACH;FMTTYPE=image/png:https://inform-magazine.com/wp-content/uploads/2022/11/Procrastinator-Series.png
END:VEVENT
BEGIN:VEVENT
DTSTART;TZID=America/New_York:20221216T120000
DTEND;TZID=America/New_York:20221216T130000
DTSTAMP:20260419T120413
CREATED:20221108T202837Z
LAST-MODIFIED:20221114T213955Z
UID:10000404-1671192000-1671195600@inform-magazine.com
SUMMARY:Procrastinator Series
DESCRIPTION:Join AIAVA for our Procrastinator series – a series of Lunch and Learn sessions for those of us who couldn’t get around to it before now. These sessions are for you if you happen to be running behind on your learning units for the year or waiting till the last minute. \nBecause we get it. \n  \nWe hope you’ll join us below: \nProcrastinator Series
URL:https://inform-magazine.com/event/procrastinator-series/2022-12-16/
ATTACH;FMTTYPE=image/png:https://inform-magazine.com/wp-content/uploads/2022/11/Procrastinator-Series.png
END:VEVENT
END:VCALENDAR