BEGIN:VCALENDAR
VERSION:2.0
PRODID:-//Inform Magazine - ECPv6.15.20//NONSGML v1.0//EN
CALSCALE:GREGORIAN
METHOD:PUBLISH
X-ORIGINAL-URL:https://inform-magazine.com
X-WR-CALDESC:Events for Inform Magazine
REFRESH-INTERVAL;VALUE=DURATION:PT1H
X-Robots-Tag:noindex
X-PUBLISHED-TTL:PT1H
BEGIN:VTIMEZONE
TZID:America/New_York
BEGIN:DAYLIGHT
TZOFFSETFROM:-0500
TZOFFSETTO:-0400
TZNAME:EDT
DTSTART:20190310T070000
END:DAYLIGHT
BEGIN:STANDARD
TZOFFSETFROM:-0400
TZOFFSETTO:-0500
TZNAME:EST
DTSTART:20191103T060000
END:STANDARD
BEGIN:DAYLIGHT
TZOFFSETFROM:-0500
TZOFFSETTO:-0400
TZNAME:EDT
DTSTART:20200308T070000
END:DAYLIGHT
BEGIN:STANDARD
TZOFFSETFROM:-0400
TZOFFSETTO:-0500
TZNAME:EST
DTSTART:20201101T060000
END:STANDARD
BEGIN:DAYLIGHT
TZOFFSETFROM:-0500
TZOFFSETTO:-0400
TZNAME:EDT
DTSTART:20210314T070000
END:DAYLIGHT
BEGIN:STANDARD
TZOFFSETFROM:-0400
TZOFFSETTO:-0500
TZNAME:EST
DTSTART:20211107T060000
END:STANDARD
END:VTIMEZONE
BEGIN:VEVENT
DTSTART;TZID=America/New_York:20200419T080000
DTEND;TZID=America/New_York:20200419T170000
DTSTAMP:20260423T123004
CREATED:20200419T140343Z
LAST-MODIFIED:20200419T140721Z
UID:10000034-1587283200-1587315600@inform-magazine.com
SUMMARY:Designing for Health
DESCRIPTION:Workplace and Sustainability have found common ground in the last 5 years. As sustainable design becomes more common and prescribed in building codes there is a restorative approach emerging on how buildings\, and essentially the built environment\, is shifting the conversation and design focus to health and well-being. Health and well-being is becoming a prominent part of the workplace design conversation. This forum will present the important evolving topic\, including what public health research has to do with office design\, what the big deal is with biophilia and how furniture and finish selection relate to the WELL Building Standard and Cognitive Health. \nIt is approved as a Health Safety and Welfare CEU by AIA and IDCEC. \nRegister online.
URL:https://inform-magazine.com/event/designing-for-health/
LOCATION:Virtual – Online
CATEGORIES:Webinars
END:VEVENT
END:VCALENDAR