BEGIN:VCALENDAR
VERSION:2.0
PRODID:-//Inform Magazine - ECPv6.15.20//NONSGML v1.0//EN
CALSCALE:GREGORIAN
METHOD:PUBLISH
X-WR-CALNAME:Inform Magazine
X-ORIGINAL-URL:https://inform-magazine.com
X-WR-CALDESC:Events for Inform Magazine
REFRESH-INTERVAL;VALUE=DURATION:PT1H
X-Robots-Tag:noindex
X-PUBLISHED-TTL:PT1H
BEGIN:VTIMEZONE
TZID:America/New_York
BEGIN:DAYLIGHT
TZOFFSETFROM:-0500
TZOFFSETTO:-0400
TZNAME:EDT
DTSTART:20190310T070000
END:DAYLIGHT
BEGIN:STANDARD
TZOFFSETFROM:-0400
TZOFFSETTO:-0500
TZNAME:EST
DTSTART:20191103T060000
END:STANDARD
BEGIN:DAYLIGHT
TZOFFSETFROM:-0500
TZOFFSETTO:-0400
TZNAME:EDT
DTSTART:20200308T070000
END:DAYLIGHT
BEGIN:STANDARD
TZOFFSETFROM:-0400
TZOFFSETTO:-0500
TZNAME:EST
DTSTART:20201101T060000
END:STANDARD
BEGIN:DAYLIGHT
TZOFFSETFROM:-0500
TZOFFSETTO:-0400
TZNAME:EDT
DTSTART:20210314T070000
END:DAYLIGHT
BEGIN:STANDARD
TZOFFSETFROM:-0400
TZOFFSETTO:-0500
TZNAME:EST
DTSTART:20211107T060000
END:STANDARD
BEGIN:DAYLIGHT
TZOFFSETFROM:-0500
TZOFFSETTO:-0400
TZNAME:EDT
DTSTART:20220313T070000
END:DAYLIGHT
BEGIN:STANDARD
TZOFFSETFROM:-0400
TZOFFSETTO:-0500
TZNAME:EST
DTSTART:20221106T060000
END:STANDARD
BEGIN:DAYLIGHT
TZOFFSETFROM:-0500
TZOFFSETTO:-0400
TZNAME:EDT
DTSTART:20230312T070000
END:DAYLIGHT
BEGIN:STANDARD
TZOFFSETFROM:-0400
TZOFFSETTO:-0500
TZNAME:EST
DTSTART:20231105T060000
END:STANDARD
BEGIN:DAYLIGHT
TZOFFSETFROM:-0500
TZOFFSETTO:-0400
TZNAME:EDT
DTSTART:20240310T070000
END:DAYLIGHT
BEGIN:STANDARD
TZOFFSETFROM:-0400
TZOFFSETTO:-0500
TZNAME:EST
DTSTART:20241103T060000
END:STANDARD
END:VTIMEZONE
BEGIN:VEVENT
DTSTART;TZID=America/New_York:20200514T180000
DTEND;TZID=America/New_York:20200514T190000
DTSTAMP:20260419T124631
CREATED:20200501T134648Z
LAST-MODIFIED:20200501T134648Z
UID:10000026-1589479200-1589482800@inform-magazine.com
SUMMARY:YAF Virtual ARE Trivia Night
DESCRIPTION:Join AIA Richmond’s Young Architect’s Forum for an evening of trivia. Questions will touch on topics from all of the exams\, so no matter which section you’re preparing for\, you’ll learn a thing or two. You don’t have to be actively studying to attend\, but these questions will make you think! Plus\, you’ll have a chance to win gift cards from some of our favorite restaurants. \n​Register online.
URL:https://inform-magazine.com/event/yaf-virtual-are-trivia-night/
LOCATION:Virtual – Online
CATEGORIES:Webinars
ORGANIZER;CN="AIA Richmond":MAILTO:info@aiarva.org
END:VEVENT
BEGIN:VEVENT
DTSTART;TZID=America/New_York:20201026T100000
DTEND;TZID=America/New_York:20201030T190000
DTSTAMP:20260419T124631
CREATED:20201012T171923Z
LAST-MODIFIED:20201012T171923Z
UID:10000060-1603706400-1604084400@inform-magazine.com
SUMMARY:YAFCON 2020: The Empathic Architect
DESCRIPTION:YAF CON 2020: The Empathic Architect convenes a series of engaging conversations about designing with empathy and practicing with intentionality. Join your fellow emerging professionals the week of Oct. 26–Oct. 30 for a daily series of peer-led discussions over lunch and presentations by purposeful — sometimes unconventional — leaders each evening. \nIn a continuation of the dialogue from 2019’s Architect of the New Era\, we’ve invited driven\, purposeful leaders who have taken a human-focused approach to their work\, their careers\, and their firms. \nRegister online.
URL:https://inform-magazine.com/event/yafcon-2020-the-empathic-architect/
LOCATION:Virtual – Online
CATEGORIES:Education,Webinars
ORGANIZER;CN="AIA Virginia":MAILTO:info@aiava.org
END:VEVENT
BEGIN:VEVENT
DTSTART;TZID=America/New_York:20210413T080000
DTEND;TZID=America/New_York:20210413T090000
DTSTAMP:20260419T124631
CREATED:20210401T145650Z
LAST-MODIFIED:20210401T145650Z
UID:10000217-1618300800-1618304400@inform-magazine.com
SUMMARY:YAF Chat | Blanchard's Coffee : Designing the Client's Vision
DESCRIPTION:Join us for a ‘coffee hour’ discussion with Seth Bauserman of Blanchard’s Coffee and Jessie Gemmer of Fultz & Singh Architects. This casual chat over some delicious Blanchard’s coffee will aim to articulate the client’s perspective towards the design process. Blanchard’s has opened three new café locations in the past two years and will share their experience of getting from start to finish on three very unique locations\, while maintaining their quality of brand. \nRegister online.
URL:https://inform-magazine.com/event/yaf-chat-blanchards-coffee-designing-the-clients-vision/
LOCATION:Virtual – Online
CATEGORIES:Architecture Month,Education,Social
ATTACH;FMTTYPE=image/png:https://inform-magazine.com/wp-content/uploads/2021/03/dark-teal.png
ORGANIZER;CN="AIA Richmond":MAILTO:info@aiarva.org
END:VEVENT
BEGIN:VEVENT
DTSTART;TZID=America/New_York:20230111T183000
DTEND;TZID=America/New_York:20230111T200000
DTSTAMP:20260419T124631
CREATED:20230103T205413Z
LAST-MODIFIED:20230103T205552Z
UID:10000411-1673461800-1673467200@inform-magazine.com
SUMMARY:ARE® Prep Series: NCARB Roundtable
DESCRIPTION:Join AIA Northern Virginia for the kickoff event for the 2023 ARE® Prep season! \nWe will have representation from NCARB with us to give the presentation\, along with members of our Young Architects Forum committee. \nWe hope to see you there! \n—— \n*DATES ARE PENDING CONFIRMATION \nFREE Introductory Session\nJan. 11 – ARE® Prep Series: NCARB Roundtable \nSeries*\nJan. 21 – Practice Management (6 LU | HSW)\, 10:00a-4:00p\nFeb. 25 – Project Management (6 LU | HSW)\, 10:00a-4:00p\nMar. 11 – Programming + Analysis (5 LU | HSW)\, 10:00a-3:00p\nApr. 15 – Project Planning and Design (6 LU | HSW)\, 10:00-4:00p\nMay 13 – Project Development + Documentation (6 LU | HSW)\, 10:00a-4:00p\nJune 17 – Construction and Evaluation (5 LU | HSW)\, 10:00a-3:00p \nRegistration and pricing are coming soon. Learn more.
URL:https://inform-magazine.com/event/are-prep-series-ncarb-roundtable/
CATEGORIES:Education
ORGANIZER;CN="AIA Northern Virginia":MAILTO:aianova@aianova.org
END:VEVENT
END:VCALENDAR