BEGIN:VCALENDAR
VERSION:2.0
PRODID:-//Inform Magazine - ECPv6.15.20//NONSGML v1.0//EN
CALSCALE:GREGORIAN
METHOD:PUBLISH
X-WR-CALNAME:Inform Magazine
X-ORIGINAL-URL:https://inform-magazine.com
X-WR-CALDESC:Events for Inform Magazine
REFRESH-INTERVAL;VALUE=DURATION:PT1H
X-Robots-Tag:noindex
X-PUBLISHED-TTL:PT1H
BEGIN:VTIMEZONE
TZID:America/New_York
BEGIN:DAYLIGHT
TZOFFSETFROM:-0500
TZOFFSETTO:-0400
TZNAME:EDT
DTSTART:20220313T070000
END:DAYLIGHT
BEGIN:STANDARD
TZOFFSETFROM:-0400
TZOFFSETTO:-0500
TZNAME:EST
DTSTART:20221106T060000
END:STANDARD
BEGIN:DAYLIGHT
TZOFFSETFROM:-0500
TZOFFSETTO:-0400
TZNAME:EDT
DTSTART:20230312T070000
END:DAYLIGHT
BEGIN:STANDARD
TZOFFSETFROM:-0400
TZOFFSETTO:-0500
TZNAME:EST
DTSTART:20231105T060000
END:STANDARD
BEGIN:DAYLIGHT
TZOFFSETFROM:-0500
TZOFFSETTO:-0400
TZNAME:EDT
DTSTART:20240310T070000
END:DAYLIGHT
BEGIN:STANDARD
TZOFFSETFROM:-0400
TZOFFSETTO:-0500
TZNAME:EST
DTSTART:20241103T060000
END:STANDARD
END:VTIMEZONE
BEGIN:VEVENT
DTSTART;TZID=America/New_York:20230221T120000
DTEND;TZID=America/New_York:20230221T130000
DTSTAMP:20260419T195227
CREATED:20230202T210004Z
LAST-MODIFIED:20230202T210004Z
UID:10000324-1676980800-1676984400@inform-magazine.com
SUMMARY:VANOMA ARE Series: Practice Management Exam Prep
DESCRIPTION:Join VANOMA for our ARE study group series\, led by Joel Mieses. For this session\, we will be focused on the Practice Management Exam. Please register in advance ‒ registration information coming to www.vanoma.org/events
URL:https://inform-magazine.com/event/vanoma-are-series-practice-management-exam-prep/
CATEGORIES:Education
END:VEVENT
BEGIN:VEVENT
DTSTART;TZID=America/New_York:20230222T170000
DTEND;TZID=America/New_York:20230222T180000
DTSTAMP:20260419T195227
CREATED:20230202T210304Z
LAST-MODIFIED:20230202T210304Z
UID:10000325-1677085200-1677088800@inform-magazine.com
SUMMARY:Project Pipeline Planning: Project Topic Interest Meeting
DESCRIPTION:Join Crystal Miller\, VANOMA’s Project Pipeline Champion\, to discuss planning for the upcoming summer camp. \nVANOMA is seeking volunteers for the 2023 Project Pipeline Architecture Summer Camp! Project Pipeline is the premier K12 outreach program set forth by VANOMA for 6th – 12th grade students across the Commonwealth. This year’s camp will take place from July 17th – 21st at Brightpoint Community College in Richmond\, Virginia. Join us in planning and developing this year’s program by becoming a Project Pipeline Volunteer! \nSchedule of Meetings. \nVolunteer sign up
URL:https://inform-magazine.com/event/project-pipeline-planning-project-topic-interest-meeting/
CATEGORIES:Education
END:VEVENT
BEGIN:VEVENT
DTSTART;TZID=America/New_York:20230223T120000
DTEND;TZID=America/New_York:20230223T130000
DTSTAMP:20260419T195227
CREATED:20230202T205330Z
LAST-MODIFIED:20230202T205330Z
UID:10000322-1677153600-1677157200@inform-magazine.com
SUMMARY:Passing the Torch Series
DESCRIPTION:Passing the Torch Series\nPresented by VANOMA + NCNOMA\nFree Virtual Events \nIn honor of Black History Month\, please join this two-part series presented by NCNOMA + VANOMA. \nThis session features Kimberly M. Mobley\, Project Architect for Brownstone Construction Group in Charlotte\, NC. \nLearn more.
URL:https://inform-magazine.com/event/passing-the-torch-series/
CATEGORIES:Business Development
END:VEVENT
BEGIN:VEVENT
DTSTART;TZID=America/New_York:20230224T083000
DTEND;TZID=America/New_York:20230224T153000
DTSTAMP:20260419T195227
CREATED:20230126T005802Z
LAST-MODIFIED:20230126T005802Z
UID:10000422-1677227400-1677252600@inform-magazine.com
SUMMARY:Online Safety-Assessment Program (SAP) Training
DESCRIPTION:Post-disaster Safety-Assessment Program (SAP) training provides architects\, engineers\, and building inspectors with the knowledge to provide evaluations of facilities and buildings in the aftermath of a disaster. \nAt the end of this training\, you will be able to: \n\nRecognize the important role architects and associated building professionals play in disaster preparedness\, response\, and recovery.\nAccurately conduct a post-disaster rapid building assessment and complete appropriate damage assessment forms.\nDemonstrate understanding of the Applied Technology Council’s ATC-20 Post-earthquake Safety Evaluation of Buildings and ATC 45 Safety Evaluation of Buildings after Windstorms and Floods damage assessment procedures.\nEarn a Cal-OES registration ID card.\n\nDate: Friday\, Feb. 24\, 2023\nTime: 8:30 a.m.-3:30 p.m.\nLocation: Virtual Training via Zoom\nFee: $105 AIA members; $180 non-members\nEarn 6.5 AIA LU | HSW \nRegister online.
URL:https://inform-magazine.com/event/online-safety-assessment-program-sap-training-4/
LOCATION:Virtual – Online
CATEGORIES:Education,Webinars
ATTACH;FMTTYPE=image/jpeg:https://inform-magazine.com/wp-content/uploads/2019/02/SAP-Training_header.jpg
ORGANIZER;CN="AIA Virginia":MAILTO:info@aiava.org
END:VEVENT
END:VCALENDAR