BEGIN:VCALENDAR
VERSION:2.0
PRODID:-//Inform Magazine - ECPv6.15.20//NONSGML v1.0//EN
CALSCALE:GREGORIAN
METHOD:PUBLISH
X-ORIGINAL-URL:https://inform-magazine.com
X-WR-CALDESC:Events for Inform Magazine
REFRESH-INTERVAL;VALUE=DURATION:PT1H
X-Robots-Tag:noindex
X-PUBLISHED-TTL:PT1H
BEGIN:VTIMEZONE
TZID:America/New_York
BEGIN:DAYLIGHT
TZOFFSETFROM:-0500
TZOFFSETTO:-0400
TZNAME:EDT
DTSTART:20220313T070000
END:DAYLIGHT
BEGIN:STANDARD
TZOFFSETFROM:-0400
TZOFFSETTO:-0500
TZNAME:EST
DTSTART:20221106T060000
END:STANDARD
BEGIN:DAYLIGHT
TZOFFSETFROM:-0500
TZOFFSETTO:-0400
TZNAME:EDT
DTSTART:20230312T070000
END:DAYLIGHT
BEGIN:STANDARD
TZOFFSETFROM:-0400
TZOFFSETTO:-0500
TZNAME:EST
DTSTART:20231105T060000
END:STANDARD
BEGIN:DAYLIGHT
TZOFFSETFROM:-0500
TZOFFSETTO:-0400
TZNAME:EDT
DTSTART:20240310T070000
END:DAYLIGHT
BEGIN:STANDARD
TZOFFSETFROM:-0400
TZOFFSETTO:-0500
TZNAME:EST
DTSTART:20241103T060000
END:STANDARD
END:VTIMEZONE
BEGIN:VEVENT
DTSTART;TZID=America/New_York:20230308T190000
DTEND;TZID=America/New_York:20230308T200000
DTSTAMP:20260419T165015
CREATED:20230227T213734Z
LAST-MODIFIED:20230227T213920Z
UID:10000444-1678302000-1678305600@inform-magazine.com
SUMMARY:Justice\, Equity\, Diversity & Inclusion in Real Life Discussion
DESCRIPTION:In partnership with AIA Seattle\, the Women in Architecture Northern Virginia J.E.D.I. committee invites you to join us for a series of informal\, off-the-record discussion of how firms are tackling J.E.D.I initiatives. This open form will be hosted quarterly in 2023 for people to exchange ideas. \nRegister>>
URL:https://inform-magazine.com/event/justice-equity-diversity-inclusion-in-real-life-discussion/
CATEGORIES:Justice Equity Diversity Inclusion
ORGANIZER;CN="AIA Northern Virginia":MAILTO:aianova@aianova.org
END:VEVENT
BEGIN:VEVENT
DTSTART;TZID=America/New_York:20230311T100000
DTEND;TZID=America/New_York:20230311T160000
DTSTAMP:20260419T165015
CREATED:20230127T224148Z
LAST-MODIFIED:20230127T224148Z
UID:10000438-1678528800-1678550400@inform-magazine.com
SUMMARY:ARE Prep®: Project Management (PjM)
DESCRIPTION:6 AIA LU|HSW offered for this class. \nThis year’s classes will be held both virtually and in-person. Advance registration is required by 5:00pm on the Thursday directly prior to the class. \nEach class offers attendees an opportunity to learn from top-notch design professionals while gaining knowledge that can be used to prepare for each section of the Architect Registration Examination® (ARE®). Topics covered include Practice Management; Project Management; Programming + Analysis; Project Planning and Design; Project Development + Documentation; and Construction and Evaluation. All sessions offer AIA LU|HSW credits. \nIn-person classes will be held at CannonDesign\, 1560 Wilson Blvd.\, Arlington\, VA\, (map) with limited seating. Lunch will be provided. \nRegister online. \nVirtual class participation link will be sent the day immediately prior to each class. \nSeries Schedule\nFeb. 04 – Practice Management (6 LU | HSW)\, 10:00a-4:00p\nMar. 11 – Project Management (6 LU | HSW)\, 10:00a-4:00p\nApr. 15 – Programming + Analysis (5 LU | HSW)\, 10:00a-3:00p\nMay 20 – Project Planning and Design (6 LU | HSW)\, 10:00-4:00p\nJune 17 – Project Development + Documentation (6 LU | HSW)\, 10:00a-4:00p\nJuly 15 – Construction and Evaluation (5 LU | HSW)\, 10:00a-3:00p
URL:https://inform-magazine.com/event/are-prep-project-management-pjm/
CATEGORIES:Education
ORGANIZER;CN="AIA Northern Virginia":MAILTO:aianova@aianova.org
END:VEVENT
END:VCALENDAR